Package: OmaDB Version: 2.16.0 Command: /home/biocbuild/bbs-3.17-bioc/R/bin/R CMD build --keep-empty-dirs --no-resave-data OmaDB StartedAt: 2023-10-15 17:43:37 -0400 (Sun, 15 Oct 2023) EndedAt: 2023-10-15 17:44:12 -0400 (Sun, 15 Oct 2023) EllapsedTime: 34.9 seconds RetCode: 0 Status: OK PackageFile: OmaDB_2.16.0.tar.gz PackageFileSize: 97.94 KiB