Package: OmaDB Version: 2.16.0 Command: /Library/Frameworks/R.framework/Resources/bin/R CMD check --install=check:OmaDB.install-out.txt --library=/Library/Frameworks/R.framework/Resources/library --no-vignettes --timings OmaDB_2.16.0.tar.gz StartedAt: 2023-10-16 04:46:24 -0400 (Mon, 16 Oct 2023) EndedAt: 2023-10-16 05:10:13 -0400 (Mon, 16 Oct 2023) EllapsedTime: 1428.4 seconds RetCode: 0 Status: OK CheckDir: OmaDB.Rcheck Warnings: 0