Package: OmaDB Version: 2.16.0 Command: /Library/Frameworks/R.framework/Resources/bin/R CMD build --keep-empty-dirs --no-resave-data OmaDB StartedAt: 2023-10-15 19:58:39 -0400 (Sun, 15 Oct 2023) EndedAt: 2023-10-15 19:59:38 -0400 (Sun, 15 Oct 2023) EllapsedTime: 58.1 seconds RetCode: 0 Status: OK PackageFile: OmaDB_2.16.0.tar.gz PackageFileSize: 97.94 KiB