Package: OmaDB Version: 2.16.0 Command: rm -rf OmaDB.buildbin-libdir && mkdir OmaDB.buildbin-libdir && /Users/biocbuild/BBS/utils/build-universal.sh OmaDB_2.16.0.tar.gz /Library/Frameworks/R.framework/Resources/bin/R OmaDB.buildbin-libdir StartedAt: 2023-10-16 09:51:19 -0400 (Mon, 16 Oct 2023) EndedAt: 2023-10-16 09:52:18 -0400 (Mon, 16 Oct 2023) EllapsedTime: 59.6 seconds RetCode: 0 Status: OK PackageFile: OmaDB_2.16.0.tgz PackageFileSize: 178 KiB