Package: OUTRIDER Version: 1.18.1 Command: /home/biocbuild/bbs-3.17-bioc/R/bin/R CMD INSTALL OUTRIDER StartedAt: 2023-10-15 15:41:13 -0400 (Sun, 15 Oct 2023) EndedAt: 2023-10-15 15:42:13 -0400 (Sun, 15 Oct 2023) EllapsedTime: 59.8 seconds RetCode: 0 Status: OK