Package: OUTRIDER Version: 1.18.1 Command: /home/biocbuild/bbs-3.17-bioc/R/bin/R CMD check --install=check:OUTRIDER.install-out.txt --library=/home/biocbuild/bbs-3.17-bioc/R/site-library --timings OUTRIDER_1.18.1.tar.gz StartedAt: 2023-10-15 23:32:01 -0400 (Sun, 15 Oct 2023) EndedAt: 2023-10-15 23:51:56 -0400 (Sun, 15 Oct 2023) EllapsedTime: 1195.8 seconds RetCode: 0 Status: OK CheckDir: OUTRIDER.Rcheck Warnings: 0