Package: OUTRIDER Version: 1.18.1 Command: rm -rf OUTRIDER.buildbin-libdir && mkdir OUTRIDER.buildbin-libdir && /Users/biocbuild/BBS/utils/build-universal.sh OUTRIDER_1.18.1.tar.gz /Library/Frameworks/R.framework/Resources/bin/R OUTRIDER.buildbin-libdir StartedAt: 2023-10-16 09:53:02 -0400 (Mon, 16 Oct 2023) EndedAt: 2023-10-16 09:56:29 -0400 (Mon, 16 Oct 2023) EllapsedTime: 206.3 seconds RetCode: 0 Status: OK PackageFile: OUTRIDER_1.18.1.tgz PackageFileSize: 2.504 MiB