Package: OTUbase Version: 1.50.0 Command: /Library/Frameworks/R.framework/Resources/bin/R CMD check --install=check:OTUbase.install-out.txt --library=/Library/Frameworks/R.framework/Resources/library --no-vignettes --timings OTUbase_1.50.0.tar.gz StartedAt: 2023-10-16 04:56:49 -0400 (Mon, 16 Oct 2023) EndedAt: 2023-10-16 05:06:53 -0400 (Mon, 16 Oct 2023) EllapsedTime: 604.4 seconds RetCode: 0 Status: OK CheckDir: OTUbase.Rcheck Warnings: 0