Package: OTUbase Version: 1.50.0 Command: rm -rf OTUbase.buildbin-libdir && mkdir OTUbase.buildbin-libdir && /Users/biocbuild/BBS/utils/build-universal.sh OTUbase_1.50.0.tar.gz /Library/Frameworks/R.framework/Resources/bin/R OTUbase.buildbin-libdir StartedAt: 2023-10-16 09:53:00 -0400 (Mon, 16 Oct 2023) EndedAt: 2023-10-16 09:54:51 -0400 (Mon, 16 Oct 2023) EllapsedTime: 110.6 seconds RetCode: 0 Status: OK PackageFile: OTUbase_1.50.0.tgz PackageFileSize: 549.8 KiB