Package: OSAT Version: 1.48.0 Command: F:\biocbuild\bbs-3.17-bioc\R\bin\R.exe CMD check --no-multiarch --install=check:OSAT.install-out.txt --library=F:\biocbuild\bbs-3.17-bioc\R\library --no-vignettes --timings OSAT_1.48.0.tar.gz StartedAt: 2023-10-16 05:02:00 -0400 (Mon, 16 Oct 2023) EndedAt: 2023-10-16 05:02:34 -0400 (Mon, 16 Oct 2023) EllapsedTime: 33.9 seconds RetCode: 0 Status: OK CheckDir: OSAT.Rcheck Warnings: 0