Package: OSAT Version: 1.48.0 Command: rm -rf OSAT.buildbin-libdir && mkdir OSAT.buildbin-libdir && F:\biocbuild\bbs-3.17-bioc\R\bin\R.exe CMD INSTALL --build --library=OSAT.buildbin-libdir OSAT_1.48.0.tar.gz StartedAt: 2023-10-16 09:13:28 -0400 (Mon, 16 Oct 2023) EndedAt: 2023-10-16 09:13:36 -0400 (Mon, 16 Oct 2023) EllapsedTime: 8.3 seconds RetCode: 0 Status: OK PackageFile: OSAT_1.48.0.zip PackageFileSize: 648.9 KiB