Package: OSAT Version: 1.48.0 Command: /home/biocbuild/bbs-3.17-bioc/R/bin/R CMD check --install=check:OSAT.install-out.txt --library=/home/biocbuild/bbs-3.17-bioc/R/site-library --timings OSAT_1.48.0.tar.gz StartedAt: 2023-10-15 23:31:30 -0400 (Sun, 15 Oct 2023) EndedAt: 2023-10-15 23:33:29 -0400 (Sun, 15 Oct 2023) EllapsedTime: 118.8 seconds RetCode: 0 Status: OK CheckDir: OSAT.Rcheck Warnings: 0