Package: ORFik Version: 1.20.2 Command: /home/biocbuild/bbs-3.17-bioc/R/bin/R CMD INSTALL ORFik StartedAt: 2023-10-15 15:23:07 -0400 (Sun, 15 Oct 2023) EndedAt: 2023-10-15 15:24:24 -0400 (Sun, 15 Oct 2023) EllapsedTime: 77.1 seconds RetCode: 0 Status: OK