Package: ORFik Version: 1.20.2 Command: /home/biocbuild/bbs-3.17-bioc/R/bin/R CMD build --keep-empty-dirs --no-resave-data ORFik StartedAt: 2023-10-15 17:47:25 -0400 (Sun, 15 Oct 2023) EndedAt: 2023-10-15 17:56:20 -0400 (Sun, 15 Oct 2023) EllapsedTime: 534.3 seconds RetCode: 0 Status: OK PackageFile: ORFik_1.20.2.tar.gz PackageFileSize: 3.758 MiB