Package: OPWeight Version: 1.22.0 Command: rm -rf OPWeight.buildbin-libdir && mkdir OPWeight.buildbin-libdir && F:\biocbuild\bbs-3.17-bioc\R\bin\R.exe CMD INSTALL --build --library=OPWeight.buildbin-libdir OPWeight_1.22.0.tar.gz StartedAt: 2023-10-16 09:13:14 -0400 (Mon, 16 Oct 2023) EndedAt: 2023-10-16 09:13:29 -0400 (Mon, 16 Oct 2023) EllapsedTime: 15.3 seconds RetCode: 0 Status: OK PackageFile: OPWeight_1.22.0.zip PackageFileSize: 354.7 KiB