Package: OPWeight Version: 1.22.0 Command: /home/biocbuild/bbs-3.17-bioc/R/bin/R CMD check --install=check:OPWeight.install-out.txt --library=/home/biocbuild/bbs-3.17-bioc/R/site-library --timings OPWeight_1.22.0.tar.gz StartedAt: 2023-10-15 23:29:19 -0400 (Sun, 15 Oct 2023) EndedAt: 2023-10-15 23:32:47 -0400 (Sun, 15 Oct 2023) EllapsedTime: 207.9 seconds RetCode: 0 Status: OK CheckDir: OPWeight.Rcheck Warnings: 0