Package: OPWeight Version: 1.22.0 Command: /Library/Frameworks/R.framework/Resources/bin/R CMD check --install=check:OPWeight.install-out.txt --library=/Library/Frameworks/R.framework/Resources/library --no-vignettes --timings OPWeight_1.22.0.tar.gz StartedAt: 2023-10-16 04:54:24 -0400 (Mon, 16 Oct 2023) EndedAt: 2023-10-16 04:56:19 -0400 (Mon, 16 Oct 2023) EllapsedTime: 114.2 seconds RetCode: 0 Status: OK CheckDir: OPWeight.Rcheck Warnings: 0