Package: OPWeight Version: 1.22.0 Command: /Library/Frameworks/R.framework/Resources/bin/R CMD build --keep-empty-dirs --no-resave-data OPWeight StartedAt: 2023-10-15 20:02:04 -0400 (Sun, 15 Oct 2023) EndedAt: 2023-10-15 20:07:15 -0400 (Sun, 15 Oct 2023) EllapsedTime: 310.9 seconds RetCode: 0 Status: OK PackageFile: OPWeight_1.22.0.tar.gz PackageFileSize: 472.3 KiB