git_url: https://git.bioconductor.org/packages/OPWeight git_branch: RELEASE_3_17 git_last_commit: 4b1f4fb git_last_commit_date: 2023-04-25 10:55:02 -0400 (Tue, 25 Apr 2023) Package: OPWeight Version: 1.22.0 Maintainer: Mohamad Hasan MaintainerEmail: shakilmohamad7 at gmail.com