Package: OMICsPCA Version: 1.18.0 Command: rm -rf OMICsPCA.buildbin-libdir && mkdir OMICsPCA.buildbin-libdir && F:\biocbuild\bbs-3.17-bioc\R\bin\R.exe CMD INSTALL --build --library=OMICsPCA.buildbin-libdir OMICsPCA_1.18.0.tar.gz StartedAt: 2023-10-16 09:12:21 -0400 (Mon, 16 Oct 2023) EndedAt: 2023-10-16 09:13:22 -0400 (Mon, 16 Oct 2023) EllapsedTime: 61.0 seconds RetCode: 0 Status: OK PackageFile: OMICsPCA_1.18.0.zip PackageFileSize: 1.705 MiB