Package: OMICsPCA Version: 1.18.0 Command: /Library/Frameworks/R.framework/Resources/bin/R CMD check --install=check:OMICsPCA.install-out.txt --library=/Library/Frameworks/R.framework/Resources/library --no-vignettes --timings OMICsPCA_1.18.0.tar.gz StartedAt: 2023-10-16 04:47:43 -0400 (Mon, 16 Oct 2023) EndedAt: 2023-10-16 05:02:38 -0400 (Mon, 16 Oct 2023) EllapsedTime: 895.5 seconds RetCode: 0 Status: OK CheckDir: OMICsPCA.Rcheck Warnings: 0