Package: OMICsPCA Version: 1.18.0 Command: /Library/Frameworks/R.framework/Resources/bin/R CMD build --keep-empty-dirs --no-resave-data OMICsPCA StartedAt: 2023-10-15 19:59:38 -0400 (Sun, 15 Oct 2023) EndedAt: 2023-10-15 20:04:17 -0400 (Sun, 15 Oct 2023) EllapsedTime: 279.3 seconds RetCode: 0 Status: OK PackageFile: OMICsPCA_1.18.0.tar.gz PackageFileSize: 4.989 MiB