Package: OMICsPCA Version: 1.18.0 Command: rm -rf OMICsPCA.buildbin-libdir && mkdir OMICsPCA.buildbin-libdir && /Users/biocbuild/BBS/utils/build-universal.sh OMICsPCA_1.18.0.tar.gz /Library/Frameworks/R.framework/Resources/bin/R OMICsPCA.buildbin-libdir StartedAt: 2023-10-16 09:51:25 -0400 (Mon, 16 Oct 2023) EndedAt: 2023-10-16 09:54:20 -0400 (Mon, 16 Oct 2023) EllapsedTime: 174.5 seconds RetCode: 0 Status: OK PackageFile: OMICsPCA_1.18.0.tgz PackageFileSize: 5.072 MiB