Package: OGRE Version: 1.4.0 Command: F:\biocbuild\bbs-3.17-bioc\R\bin\R.exe CMD INSTALL OGRE StartedAt: 2023-10-15 17:02:05 -0400 (Sun, 15 Oct 2023) EndedAt: 2023-10-15 17:03:01 -0400 (Sun, 15 Oct 2023) EllapsedTime: 55.8 seconds RetCode: 0 Status: OK