Package: OGRE Version: 1.4.0 Command: rm -rf OGRE.buildbin-libdir && mkdir OGRE.buildbin-libdir && F:\biocbuild\bbs-3.17-bioc\R\bin\R.exe CMD INSTALL --build --library=OGRE.buildbin-libdir OGRE_1.4.0.tar.gz StartedAt: 2023-10-16 09:12:00 -0400 (Mon, 16 Oct 2023) EndedAt: 2023-10-16 09:13:01 -0400 (Mon, 16 Oct 2023) EllapsedTime: 61.3 seconds RetCode: 0 Status: OK PackageFile: OGRE_1.4.0.zip PackageFileSize: 1.057 MiB