Package: OGRE Version: 1.4.0 Command: /home/biocbuild/bbs-3.17-bioc/R/bin/R CMD check --install=check:OGRE.install-out.txt --library=/home/biocbuild/bbs-3.17-bioc/R/site-library --timings OGRE_1.4.0.tar.gz StartedAt: 2023-10-13 23:27:00 -0400 (Fri, 13 Oct 2023) EndedAt: 2023-10-13 23:36:29 -0400 (Fri, 13 Oct 2023) EllapsedTime: 568.3 seconds RetCode: 0 Status: OK CheckDir: OGRE.Rcheck Warnings: 0