Package: OGRE Version: 1.4.0 Command: /Library/Frameworks/R.framework/Resources/bin/R CMD check --install=check:OGRE.install-out.txt --library=/Library/Frameworks/R.framework/Resources/library --no-vignettes --timings OGRE_1.4.0.tar.gz StartedAt: 2023-10-16 04:45:23 -0400 (Mon, 16 Oct 2023) EndedAt: 2023-10-16 05:02:52 -0400 (Mon, 16 Oct 2023) EllapsedTime: 1049.0 seconds RetCode: 0 Status: OK CheckDir: OGRE.Rcheck Warnings: 0