Package: ODER Version: 1.6.0 Command: F:\biocbuild\bbs-3.17-bioc\R\bin\R.exe CMD check --no-multiarch --install=check:ODER.install-out.txt --library=F:\biocbuild\bbs-3.17-bioc\R\library --no-vignettes --timings ODER_1.6.0.tar.gz StartedAt: 2023-10-16 04:51:17 -0400 (Mon, 16 Oct 2023) EndedAt: 2023-10-16 05:03:25 -0400 (Mon, 16 Oct 2023) EllapsedTime: 728.6 seconds RetCode: 1 Status: ERROR CheckDir: ODER.Rcheck Warnings: NA