Package: ODER Version: 1.6.0 Command: chmod a+r ODER -R && F:\biocbuild\bbs-3.17-bioc\R\bin\R.exe CMD build --keep-empty-dirs --no-resave-data ODER StartedAt: 2023-10-15 20:56:02 -0400 (Sun, 15 Oct 2023) EndedAt: 2023-10-15 20:58:24 -0400 (Sun, 15 Oct 2023) EllapsedTime: 141.7 seconds RetCode: 0 Status: OK PackageFile: ODER_1.6.0.tar.gz PackageFileSize: 2.384 MiB