Package: ODER Version: 1.6.0 Command: rm -rf ODER.buildbin-libdir && mkdir ODER.buildbin-libdir && F:\biocbuild\bbs-3.17-bioc\R\bin\R.exe CMD INSTALL --build --library=ODER.buildbin-libdir ODER_1.6.0.tar.gz StartedAt: 2023-10-16 09:11:56 -0400 (Mon, 16 Oct 2023) EndedAt: 2023-10-16 09:12:10 -0400 (Mon, 16 Oct 2023) EllapsedTime: 13.5 seconds RetCode: 0 Status: OK PackageFile: ODER_1.6.0.zip PackageFileSize: 2.461 MiB