Package: ODER Version: 1.6.0 Command: /home/biocbuild/bbs-3.17-bioc/R/bin/R CMD check --install=check:ODER.install-out.txt --library=/home/biocbuild/bbs-3.17-bioc/R/site-library --timings ODER_1.6.0.tar.gz StartedAt: 2023-10-01 23:25:03 -0400 (Sun, 01 Oct 2023) EndedAt: 2023-10-01 23:43:52 -0400 (Sun, 01 Oct 2023) EllapsedTime: 1128.9 seconds RetCode: 0 Status: WARNINGS CheckDir: ODER.Rcheck Warnings: 1