Package: ODER Version: 1.6.0 Command: /Library/Frameworks/R.framework/Resources/bin/R CMD INSTALL ODER StartedAt: 2023-10-15 16:23:16 -0400 (Sun, 15 Oct 2023) EndedAt: 2023-10-15 16:23:49 -0400 (Sun, 15 Oct 2023) EllapsedTime: 33.4 seconds RetCode: 0 Status: OK