Package: ODER Version: 1.6.0 Command: /Library/Frameworks/R.framework/Resources/bin/R CMD build --keep-empty-dirs --no-resave-data ODER StartedAt: 2023-10-15 19:57:55 -0400 (Sun, 15 Oct 2023) EndedAt: 2023-10-15 20:01:56 -0400 (Sun, 15 Oct 2023) EllapsedTime: 240.2 seconds RetCode: 1 Status: ERROR PackageFile: None PackageFileSize: NA