Package: OCplus Version: 1.74.0 Command: rm -rf OCplus.buildbin-libdir && mkdir OCplus.buildbin-libdir && F:\biocbuild\bbs-3.17-bioc\R\bin\R.exe CMD INSTALL --build --library=OCplus.buildbin-libdir OCplus_1.74.0.tar.gz StartedAt: 2023-10-16 09:11:53 -0400 (Mon, 16 Oct 2023) EndedAt: 2023-10-16 09:12:08 -0400 (Mon, 16 Oct 2023) EllapsedTime: 15.5 seconds RetCode: 0 Status: OK PackageFile: OCplus_1.74.0.zip PackageFileSize: 9.72 MiB