Package: OCplus Version: 1.74.0 Command: /home/biocbuild/bbs-3.17-bioc/R/bin/R CMD INSTALL OCplus StartedAt: 2023-10-15 15:37:42 -0400 (Sun, 15 Oct 2023) EndedAt: 2023-10-15 15:37:50 -0400 (Sun, 15 Oct 2023) EllapsedTime: 7.9 seconds RetCode: 0 Status: OK