Package: OCplus Version: 1.74.0 Command: /Library/Frameworks/R.framework/Resources/bin/R CMD check --install=check:OCplus.install-out.txt --library=/Library/Frameworks/R.framework/Resources/library --no-vignettes --timings OCplus_1.74.0.tar.gz StartedAt: 2023-10-16 04:44:46 -0400 (Mon, 16 Oct 2023) EndedAt: 2023-10-16 04:47:43 -0400 (Mon, 16 Oct 2023) EllapsedTime: 176.9 seconds RetCode: 0 Status: OK CheckDir: OCplus.Rcheck Warnings: 0