Package: OCplus Version: 1.74.0 Command: /Library/Frameworks/R.framework/Resources/bin/R CMD build --keep-empty-dirs --no-resave-data OCplus StartedAt: 2023-10-15 19:57:47 -0400 (Sun, 15 Oct 2023) EndedAt: 2023-10-15 19:58:50 -0400 (Sun, 15 Oct 2023) EllapsedTime: 62.6 seconds RetCode: 0 Status: OK PackageFile: OCplus_1.74.0.tar.gz PackageFileSize: 9.586 MiB