Package: OCplus Version: 1.74.0 Command: rm -rf OCplus.buildbin-libdir && mkdir OCplus.buildbin-libdir && /Users/biocbuild/BBS/utils/build-universal.sh OCplus_1.74.0.tar.gz /Library/Frameworks/R.framework/Resources/bin/R OCplus.buildbin-libdir StartedAt: 2023-10-16 09:51:13 -0400 (Mon, 16 Oct 2023) EndedAt: 2023-10-16 09:51:48 -0400 (Mon, 16 Oct 2023) EllapsedTime: 35.8 seconds RetCode: 0 Status: OK PackageFile: OCplus_1.74.0.tgz PackageFileSize: 9.729 MiB