Package: NxtIRFcore Version: 1.6.0 Command: /home/biocbuild/bbs-3.17-bioc/R/bin/R CMD build --keep-empty-dirs --no-resave-data NxtIRFcore StartedAt: 2023-10-15 17:42:30 -0400 (Sun, 15 Oct 2023) EndedAt: 2023-10-15 17:47:02 -0400 (Sun, 15 Oct 2023) EllapsedTime: 271.3 seconds RetCode: 0 Status: OK PackageFile: NxtIRFcore_1.6.0.tar.gz PackageFileSize: 2.127 MiB