Package: NuPoP Version: 2.8.1 Command: chmod a+r NuPoP -R && F:\biocbuild\bbs-3.17-bioc\R\bin\R.exe CMD build --keep-empty-dirs --no-resave-data NuPoP StartedAt: 2023-10-15 20:55:26 -0400 (Sun, 15 Oct 2023) EndedAt: 2023-10-15 20:55:43 -0400 (Sun, 15 Oct 2023) EllapsedTime: 17.1 seconds RetCode: 0 Status: OK PackageFile: NuPoP_2.8.1.tar.gz PackageFileSize: 6.036 MiB