Package: NuPoP Version: 2.8.1 Command: rm -rf NuPoP.buildbin-libdir && mkdir NuPoP.buildbin-libdir && F:\biocbuild\bbs-3.17-bioc\R\bin\R.exe CMD INSTALL --build --library=NuPoP.buildbin-libdir NuPoP_2.8.1.tar.gz StartedAt: 2023-10-16 09:11:48 -0400 (Mon, 16 Oct 2023) EndedAt: 2023-10-16 09:12:07 -0400 (Mon, 16 Oct 2023) EllapsedTime: 18.7 seconds RetCode: 0 Status: OK PackageFile: NuPoP_2.8.1.zip PackageFileSize: 4.465 MiB