Package: NuPoP Version: 2.8.1 Command: /Library/Frameworks/R.framework/Resources/bin/R CMD INSTALL NuPoP StartedAt: 2023-10-15 15:56:44 -0400 (Sun, 15 Oct 2023) EndedAt: 2023-10-15 15:57:21 -0400 (Sun, 15 Oct 2023) EllapsedTime: 37.2 seconds RetCode: 0 Status: OK