Package: NormqPCR Version: 1.46.0 Command: chmod a+r NormqPCR -R && F:\biocbuild\bbs-3.17-bioc\R\bin\R.exe CMD build --keep-empty-dirs --no-resave-data NormqPCR StartedAt: 2023-10-15 20:54:08 -0400 (Sun, 15 Oct 2023) EndedAt: 2023-10-15 20:54:30 -0400 (Sun, 15 Oct 2023) EllapsedTime: 22.1 seconds RetCode: 0 Status: OK PackageFile: NormqPCR_1.46.0.tar.gz PackageFileSize: 293.3 KiB