Package: NormqPCR Version: 1.46.0 Command: /home/biocbuild/bbs-3.17-bioc/R/bin/R CMD check --install=check:NormqPCR.install-out.txt --library=/home/biocbuild/bbs-3.17-bioc/R/site-library --timings NormqPCR_1.46.0.tar.gz StartedAt: 2023-10-15 23:21:47 -0400 (Sun, 15 Oct 2023) EndedAt: 2023-10-15 23:23:25 -0400 (Sun, 15 Oct 2023) EllapsedTime: 97.9 seconds RetCode: 0 Status: OK CheckDir: NormqPCR.Rcheck Warnings: 0