Package: NormqPCR Version: 1.46.0 Command: /Library/Frameworks/R.framework/Resources/bin/R CMD INSTALL NormqPCR StartedAt: 2023-10-15 15:51:19 -0400 (Sun, 15 Oct 2023) EndedAt: 2023-10-15 15:51:43 -0400 (Sun, 15 Oct 2023) EllapsedTime: 24.4 seconds RetCode: 0 Status: OK