Package: NormqPCR Version: 1.46.0 Command: /Library/Frameworks/R.framework/Resources/bin/R CMD build --keep-empty-dirs --no-resave-data NormqPCR StartedAt: 2023-10-15 19:56:43 -0400 (Sun, 15 Oct 2023) EndedAt: 2023-10-15 19:57:24 -0400 (Sun, 15 Oct 2023) EllapsedTime: 41.5 seconds RetCode: 0 Status: OK PackageFile: NormqPCR_1.46.0.tar.gz PackageFileSize: 418.2 KiB