Package: NormqPCR Version: 1.46.0 Command: rm -rf NormqPCR.buildbin-libdir && mkdir NormqPCR.buildbin-libdir && /Users/biocbuild/BBS/utils/build-universal.sh NormqPCR_1.46.0.tar.gz /Library/Frameworks/R.framework/Resources/bin/R NormqPCR.buildbin-libdir StartedAt: 2023-10-16 09:50:43 -0400 (Mon, 16 Oct 2023) EndedAt: 2023-10-16 09:51:10 -0400 (Mon, 16 Oct 2023) EllapsedTime: 27.2 seconds RetCode: 0 Status: OK PackageFile: NormqPCR_1.46.0.tgz PackageFileSize: 499.4 KiB