Package: NormalyzerDE Version: 1.18.1 Command: F:\biocbuild\bbs-3.17-bioc\R\bin\R.exe CMD INSTALL NormalyzerDE StartedAt: 2023-10-15 16:37:36 -0400 (Sun, 15 Oct 2023) EndedAt: 2023-10-15 16:38:37 -0400 (Sun, 15 Oct 2023) EllapsedTime: 61.1 seconds RetCode: 0 Status: OK