Package: NormalyzerDE Version: 1.18.1 Command: rm -rf NormalyzerDE.buildbin-libdir && mkdir NormalyzerDE.buildbin-libdir && F:\biocbuild\bbs-3.17-bioc\R\bin\R.exe CMD INSTALL --build --library=NormalyzerDE.buildbin-libdir NormalyzerDE_1.18.1.tar.gz StartedAt: 2023-10-16 09:11:27 -0400 (Mon, 16 Oct 2023) EndedAt: 2023-10-16 09:12:31 -0400 (Mon, 16 Oct 2023) EllapsedTime: 64.0 seconds RetCode: 0 Status: OK PackageFile: NormalyzerDE_1.18.1.zip PackageFileSize: 1.345 MiB