Package: NormalyzerDE Version: 1.18.1 Command: /home/biocbuild/bbs-3.17-bioc/R/bin/R CMD check --install=check:NormalyzerDE.install-out.txt --library=/home/biocbuild/bbs-3.17-bioc/R/site-library --timings NormalyzerDE_1.18.1.tar.gz StartedAt: 2023-10-15 23:21:28 -0400 (Sun, 15 Oct 2023) EndedAt: 2023-10-15 23:28:07 -0400 (Sun, 15 Oct 2023) EllapsedTime: 398.6 seconds RetCode: 0 Status: OK CheckDir: NormalyzerDE.Rcheck Warnings: 0